BEGIN:VCALENDAR
VERSION:2.0
PRODID:-//Mittelschule Ternitz - ECPv6.15.18//NONSGML v1.0//EN
CALSCALE:GREGORIAN
METHOD:PUBLISH
X-ORIGINAL-URL:https://www.ms-ternitz.ac.at
X-WR-CALDESC:Veranstaltungen für Mittelschule Ternitz
REFRESH-INTERVAL;VALUE=DURATION:PT1H
X-Robots-Tag:noindex
X-PUBLISHED-TTL:PT1H
BEGIN:VTIMEZONE
TZID:Europe/Berlin
BEGIN:DAYLIGHT
TZOFFSETFROM:+0100
TZOFFSETTO:+0200
TZNAME:CEST
DTSTART:20250330T010000
END:DAYLIGHT
BEGIN:STANDARD
TZOFFSETFROM:+0200
TZOFFSETTO:+0100
TZNAME:CET
DTSTART:20251026T010000
END:STANDARD
BEGIN:DAYLIGHT
TZOFFSETFROM:+0100
TZOFFSETTO:+0200
TZNAME:CEST
DTSTART:20260329T010000
END:DAYLIGHT
BEGIN:STANDARD
TZOFFSETFROM:+0200
TZOFFSETTO:+0100
TZNAME:CET
DTSTART:20261025T010000
END:STANDARD
BEGIN:DAYLIGHT
TZOFFSETFROM:+0100
TZOFFSETTO:+0200
TZNAME:CEST
DTSTART:20270328T010000
END:DAYLIGHT
BEGIN:STANDARD
TZOFFSETFROM:+0200
TZOFFSETTO:+0100
TZNAME:CET
DTSTART:20271031T010000
END:STANDARD
END:VTIMEZONE
BEGIN:VEVENT
DTSTART;VALUE=DATE:20260413
DTEND;VALUE=DATE:20260418
DTSTAMP:20260424T152411
CREATED:20260403T164834Z
LAST-MODIFIED:20260403T164834Z
UID:19035-1776038400-1776470399@www.ms-ternitz.ac.at
SUMMARY:3. Klassen "English in Action"
DESCRIPTION:
URL:https://www.ms-ternitz.ac.at/monat/3-klassen-english-in-action/
CATEGORIES:Workshop
END:VEVENT
BEGIN:VEVENT
DTSTART;VALUE=DATE:20260414
DTEND;VALUE=DATE:20260415
DTSTAMP:20260424T152411
CREATED:20260403T165228Z
LAST-MODIFIED:20260403T165228Z
UID:19039-1776124800-1776211199@www.ms-ternitz.ac.at
SUMMARY:2b Teambuilding in Puchberg
DESCRIPTION:
URL:https://www.ms-ternitz.ac.at/monat/2b-teambuilding-in-puchberg/
CATEGORIES:Exkursion
END:VEVENT
END:VCALENDAR