BEGIN:VCALENDAR
VERSION:2.0
PRODID:-//Mittelschule Ternitz - ECPv6.15.18//NONSGML v1.0//EN
CALSCALE:GREGORIAN
METHOD:PUBLISH
X-ORIGINAL-URL:https://www.ms-ternitz.ac.at
X-WR-CALDESC:Veranstaltungen für Mittelschule Ternitz
REFRESH-INTERVAL;VALUE=DURATION:PT1H
X-Robots-Tag:noindex
X-PUBLISHED-TTL:PT1H
BEGIN:VTIMEZONE
TZID:Europe/Berlin
BEGIN:DAYLIGHT
TZOFFSETFROM:+0100
TZOFFSETTO:+0200
TZNAME:CEST
DTSTART:20250330T010000
END:DAYLIGHT
BEGIN:STANDARD
TZOFFSETFROM:+0200
TZOFFSETTO:+0100
TZNAME:CET
DTSTART:20251026T010000
END:STANDARD
BEGIN:DAYLIGHT
TZOFFSETFROM:+0100
TZOFFSETTO:+0200
TZNAME:CEST
DTSTART:20260329T010000
END:DAYLIGHT
BEGIN:STANDARD
TZOFFSETFROM:+0200
TZOFFSETTO:+0100
TZNAME:CET
DTSTART:20261025T010000
END:STANDARD
BEGIN:DAYLIGHT
TZOFFSETFROM:+0100
TZOFFSETTO:+0200
TZNAME:CEST
DTSTART:20270328T010000
END:DAYLIGHT
BEGIN:STANDARD
TZOFFSETFROM:+0200
TZOFFSETTO:+0100
TZNAME:CET
DTSTART:20271031T010000
END:STANDARD
END:VTIMEZONE
BEGIN:VEVENT
DTSTART;VALUE=DATE:20260526
DTEND;VALUE=DATE:20260530
DTSTAMP:20260424T173020
CREATED:20260403T172316Z
LAST-MODIFIED:20260403T172316Z
UID:19068-1779753600-1780099199@www.ms-ternitz.ac.at
SUMMARY:1aK\, 1b\, 1c Projektwoche
DESCRIPTION:
URL:https://www.ms-ternitz.ac.at/monat/1ak-1b-1c-projektwoche/
CATEGORIES:Projekttage
END:VEVENT
BEGIN:VEVENT
DTSTART;VALUE=DATE:20260526
DTEND;VALUE=DATE:20260530
DTSTAMP:20260424T173020
CREATED:20260403T172401Z
LAST-MODIFIED:20260403T172537Z
UID:19070-1779753600-1780099199@www.ms-ternitz.ac.at
SUMMARY:3aK Projektwoche
DESCRIPTION:
URL:https://www.ms-ternitz.ac.at/monat/3ak-projekttage/
CATEGORIES:Projekttage
END:VEVENT
BEGIN:VEVENT
DTSTART;VALUE=DATE:20260526
DTEND;VALUE=DATE:20260530
DTSTAMP:20260424T173020
CREATED:20260403T172626Z
LAST-MODIFIED:20260403T181612Z
UID:19073-1779753600-1780099199@www.ms-ternitz.ac.at
SUMMARY:1aS\, 2aS Sommersportwoche
DESCRIPTION:
URL:https://www.ms-ternitz.ac.at/monat/1as-1b-1c-sommersportwoche/
CATEGORIES:Sommersportwoche
END:VEVENT
END:VCALENDAR