BEGIN:VCALENDAR
VERSION:2.0
PRODID:-//Mittelschule Ternitz - ECPv6.15.18//NONSGML v1.0//EN
CALSCALE:GREGORIAN
METHOD:PUBLISH
X-WR-CALNAME:Mittelschule Ternitz
X-ORIGINAL-URL:https://www.ms-ternitz.ac.at
X-WR-CALDESC:Veranstaltungen für Mittelschule Ternitz
REFRESH-INTERVAL;VALUE=DURATION:PT1H
X-Robots-Tag:noindex
X-PUBLISHED-TTL:PT1H
BEGIN:VTIMEZONE
TZID:Europe/Berlin
BEGIN:DAYLIGHT
TZOFFSETFROM:+0100
TZOFFSETTO:+0200
TZNAME:CEST
DTSTART:20250330T010000
END:DAYLIGHT
BEGIN:STANDARD
TZOFFSETFROM:+0200
TZOFFSETTO:+0100
TZNAME:CET
DTSTART:20251026T010000
END:STANDARD
BEGIN:DAYLIGHT
TZOFFSETFROM:+0100
TZOFFSETTO:+0200
TZNAME:CEST
DTSTART:20260329T010000
END:DAYLIGHT
BEGIN:STANDARD
TZOFFSETFROM:+0200
TZOFFSETTO:+0100
TZNAME:CET
DTSTART:20261025T010000
END:STANDARD
BEGIN:DAYLIGHT
TZOFFSETFROM:+0100
TZOFFSETTO:+0200
TZNAME:CEST
DTSTART:20270328T010000
END:DAYLIGHT
BEGIN:STANDARD
TZOFFSETFROM:+0200
TZOFFSETTO:+0100
TZNAME:CET
DTSTART:20271031T010000
END:STANDARD
END:VTIMEZONE
BEGIN:VEVENT
DTSTART;VALUE=DATE:20260601
DTEND;VALUE=DATE:20260604
DTSTAMP:20260424T184600
CREATED:20260403T172931Z
LAST-MODIFIED:20260403T181724Z
UID:19077-1780272000-1780531199@www.ms-ternitz.ac.at
SUMMARY:"Kelten"-Projekttage der Kreativklassen
DESCRIPTION:
URL:https://www.ms-ternitz.ac.at/monat/projekttage-kelten-der-kreativklassen/
CATEGORIES:Projekttage
END:VEVENT
BEGIN:VEVENT
DTSTART;VALUE=DATE:20260602
DTEND;VALUE=DATE:20260603
DTSTAMP:20260424T184600
CREATED:20260403T173041Z
LAST-MODIFIED:20260403T173041Z
UID:19079-1780358400-1780444799@www.ms-ternitz.ac.at
SUMMARY:"Aquatlon" Wr. Neustadt
DESCRIPTION:
URL:https://www.ms-ternitz.ac.at/monat/aquatlon-wr-neustadt/
CATEGORIES:Sportveranstaltung
END:VEVENT
END:VCALENDAR