BEGIN:VCALENDAR
VERSION:2.0
PRODID:-//Mittelschule Ternitz - ECPv6.15.18//NONSGML v1.0//EN
CALSCALE:GREGORIAN
METHOD:PUBLISH
X-WR-CALNAME:Mittelschule Ternitz
X-ORIGINAL-URL:https://www.ms-ternitz.ac.at
X-WR-CALDESC:Veranstaltungen für Mittelschule Ternitz
REFRESH-INTERVAL;VALUE=DURATION:PT1H
X-Robots-Tag:noindex
X-PUBLISHED-TTL:PT1H
BEGIN:VTIMEZONE
TZID:Europe/Berlin
BEGIN:DAYLIGHT
TZOFFSETFROM:+0100
TZOFFSETTO:+0200
TZNAME:CEST
DTSTART:20250330T010000
END:DAYLIGHT
BEGIN:STANDARD
TZOFFSETFROM:+0200
TZOFFSETTO:+0100
TZNAME:CET
DTSTART:20251026T010000
END:STANDARD
BEGIN:DAYLIGHT
TZOFFSETFROM:+0100
TZOFFSETTO:+0200
TZNAME:CEST
DTSTART:20260329T010000
END:DAYLIGHT
BEGIN:STANDARD
TZOFFSETFROM:+0200
TZOFFSETTO:+0100
TZNAME:CET
DTSTART:20261025T010000
END:STANDARD
BEGIN:DAYLIGHT
TZOFFSETFROM:+0100
TZOFFSETTO:+0200
TZNAME:CEST
DTSTART:20270328T010000
END:DAYLIGHT
BEGIN:STANDARD
TZOFFSETFROM:+0200
TZOFFSETTO:+0100
TZNAME:CET
DTSTART:20271031T010000
END:STANDARD
END:VTIMEZONE
BEGIN:VEVENT
DTSTART;TZID=Europe/Berlin:20260616T095000
DTEND;TZID=Europe/Berlin:20260616T114500
DTSTAMP:20260424T184421
CREATED:20260403T174600Z
LAST-MODIFIED:20260403T174600Z
UID:19097-1781603400-1781610300@www.ms-ternitz.ac.at
SUMMARY:3aK Workshop-Bauakademie NÖ - "Karriere am Bau"
DESCRIPTION:
URL:https://www.ms-ternitz.ac.at/monat/3ak-workshop-bauakademie-noe-karriere-am-bau/
CATEGORIES:Workshop
END:VEVENT
BEGIN:VEVENT
DTSTART;TZID=Europe/Berlin:20260616T115000
DTEND;TZID=Europe/Berlin:20260616T133500
DTSTAMP:20260424T184421
CREATED:20260403T174657Z
LAST-MODIFIED:20260403T174657Z
UID:19099-1781610600-1781616900@www.ms-ternitz.ac.at
SUMMARY:3bK Workshop-Bauakademie NÖ - "Karriere am Bau"
DESCRIPTION:
URL:https://www.ms-ternitz.ac.at/monat/3bk-workshop-bauakademie-noe-karriere-am-bau/
CATEGORIES:Workshop
END:VEVENT
END:VCALENDAR