BEGIN:VCALENDAR
VERSION:2.0
PRODID:-//Mittelschule Ternitz - ECPv6.15.18//NONSGML v1.0//EN
CALSCALE:GREGORIAN
METHOD:PUBLISH
X-WR-CALNAME:Mittelschule Ternitz
X-ORIGINAL-URL:https://www.ms-ternitz.ac.at
X-WR-CALDESC:Veranstaltungen für Mittelschule Ternitz
REFRESH-INTERVAL;VALUE=DURATION:PT1H
X-Robots-Tag:noindex
X-PUBLISHED-TTL:PT1H
BEGIN:VTIMEZONE
TZID:Europe/Berlin
BEGIN:DAYLIGHT
TZOFFSETFROM:+0100
TZOFFSETTO:+0200
TZNAME:CEST
DTSTART:20250330T010000
END:DAYLIGHT
BEGIN:STANDARD
TZOFFSETFROM:+0200
TZOFFSETTO:+0100
TZNAME:CET
DTSTART:20251026T010000
END:STANDARD
BEGIN:DAYLIGHT
TZOFFSETFROM:+0100
TZOFFSETTO:+0200
TZNAME:CEST
DTSTART:20260329T010000
END:DAYLIGHT
BEGIN:STANDARD
TZOFFSETFROM:+0200
TZOFFSETTO:+0100
TZNAME:CET
DTSTART:20261025T010000
END:STANDARD
BEGIN:DAYLIGHT
TZOFFSETFROM:+0100
TZOFFSETTO:+0200
TZNAME:CEST
DTSTART:20270328T010000
END:DAYLIGHT
BEGIN:STANDARD
TZOFFSETFROM:+0200
TZOFFSETTO:+0100
TZNAME:CET
DTSTART:20271031T010000
END:STANDARD
END:VTIMEZONE
BEGIN:VEVENT
DTSTART;TZID=Europe/Berlin:20260506T115000
DTEND;TZID=Europe/Berlin:20260506T170000
DTSTAMP:20260424T164631
CREATED:20260420T060520Z
LAST-MODIFIED:20260420T060520Z
UID:19237-1778068200-1778086800@www.ms-ternitz.ac.at
SUMMARY:3aK Exkursion Wien "Erlebnis Europa"
DESCRIPTION:
URL:https://www.ms-ternitz.ac.at/monat/3ak-exkursion-wien-erlebnis-europa/
CATEGORIES:Exkursion
END:VEVENT
BEGIN:VEVENT
DTSTART;VALUE=DATE:20260507
DTEND;VALUE=DATE:20260508
DTSTAMP:20260424T164631
CREATED:20260403T175639Z
LAST-MODIFIED:20260403T175639Z
UID:19109-1778112000-1778198399@www.ms-ternitz.ac.at
SUMMARY:1. Klassen Englisch-Schularbeit
DESCRIPTION:
URL:https://www.ms-ternitz.ac.at/monat/1-klassen-englisch-schularbeit/
CATEGORIES:Schultermine
END:VEVENT
BEGIN:VEVENT
DTSTART;VALUE=DATE:20260507
DTEND;VALUE=DATE:20260508
DTSTAMP:20260424T164631
CREATED:20260403T175709Z
LAST-MODIFIED:20260403T175709Z
UID:19111-1778112000-1778198399@www.ms-ternitz.ac.at
SUMMARY:4. Klassen Deutsch-Schularbeit
DESCRIPTION:
URL:https://www.ms-ternitz.ac.at/monat/4-klassen-deutsch-schularbeit/
CATEGORIES:Schultermine
END:VEVENT
BEGIN:VEVENT
DTSTART;TZID=Europe/Berlin:20260507T085500
DTEND;TZID=Europe/Berlin:20260507T104000
DTSTAMP:20260424T164631
CREATED:20260403T171703Z
LAST-MODIFIED:20260403T171703Z
UID:19061-1778144100-1778150400@www.ms-ternitz.ac.at
SUMMARY:3c AMS-Workshop "Stärken"
DESCRIPTION:
URL:https://www.ms-ternitz.ac.at/monat/3c-ams-workshop-staerken/
CATEGORIES:Workshop
END:VEVENT
BEGIN:VEVENT
DTSTART;VALUE=DATE:20260508
DTEND;VALUE=DATE:20260509
DTSTAMP:20260424T164631
CREATED:20260403T175740Z
LAST-MODIFIED:20260403T175740Z
UID:19113-1778198400-1778284799@www.ms-ternitz.ac.at
SUMMARY:3. Klassen Mathematik-Schularbeit
DESCRIPTION:
URL:https://www.ms-ternitz.ac.at/monat/3-klassen-mathematik-schularbeit/
CATEGORIES:Schultermine
END:VEVENT
BEGIN:VEVENT
DTSTART;VALUE=DATE:20260512
DTEND;VALUE=DATE:20260513
DTSTAMP:20260424T164631
CREATED:20260403T175803Z
LAST-MODIFIED:20260403T175803Z
UID:19115-1778544000-1778630399@www.ms-ternitz.ac.at
SUMMARY:3. Klassen Englisch-Schularbeit
DESCRIPTION:
URL:https://www.ms-ternitz.ac.at/monat/3-klassen-englisch-schularbeit/
CATEGORIES:Schultermine
END:VEVENT
BEGIN:VEVENT
DTSTART;VALUE=DATE:20260512
DTEND;VALUE=DATE:20260513
DTSTAMP:20260424T164631
CREATED:20260403T175832Z
LAST-MODIFIED:20260403T175832Z
UID:19117-1778544000-1778630399@www.ms-ternitz.ac.at
SUMMARY:4. Klassen Mathematik-Schularbeit
DESCRIPTION:
URL:https://www.ms-ternitz.ac.at/monat/4-klassen-mathematik-schularbeit/
CATEGORIES:Schultermine
END:VEVENT
BEGIN:VEVENT
DTSTART;VALUE=DATE:20260513
DTEND;VALUE=DATE:20260514
DTSTAMP:20260424T164631
CREATED:20260403T175900Z
LAST-MODIFIED:20260403T175900Z
UID:19119-1778630400-1778716799@www.ms-ternitz.ac.at
SUMMARY:1. Klassen Mathematik-Schularbeit
DESCRIPTION:
URL:https://www.ms-ternitz.ac.at/monat/1-klassen-mathematik-schularbeit/
CATEGORIES:Schultermine
END:VEVENT
BEGIN:VEVENT
DTSTART;VALUE=DATE:20260514
DTEND;VALUE=DATE:20260515
DTSTAMP:20260424T164631
CREATED:20240914T103043Z
LAST-MODIFIED:20240914T103043Z
UID:14058-1778716800-1778803199@www.ms-ternitz.ac.at
SUMMARY:Christi Himmelfahrt
DESCRIPTION:
URL:https://www.ms-ternitz.ac.at/monat/christi-himmelfahrt-4/
CATEGORIES:Feiertag
END:VEVENT
BEGIN:VEVENT
DTSTART;TZID=Europe/Berlin:20260519T124500
DTEND;TZID=Europe/Berlin:20260519T144000
DTSTAMP:20260424T164631
CREATED:20260403T171942Z
LAST-MODIFIED:20260403T171942Z
UID:19064-1779194700-1779201600@www.ms-ternitz.ac.at
SUMMARY:3bK AMS-Workshop "Stärken"
DESCRIPTION:
URL:https://www.ms-ternitz.ac.at/monat/3bk-ams-workshop-staerken/
CATEGORIES:Workshop
END:VEVENT
BEGIN:VEVENT
DTSTART;VALUE=DATE:20260520
DTEND;VALUE=DATE:20260521
DTSTAMP:20260424T164631
CREATED:20260403T182907Z
LAST-MODIFIED:20260403T182907Z
UID:19140-1779235200-1779321599@www.ms-ternitz.ac.at
SUMMARY:1. Klassen Deutsch-Schularbeit
DESCRIPTION:
URL:https://www.ms-ternitz.ac.at/monat/1-klassen-deutsch-schularbeit/
CATEGORIES:Schultermine
END:VEVENT
BEGIN:VEVENT
DTSTART;VALUE=DATE:20260521
DTEND;VALUE=DATE:20260522
DTSTAMP:20260424T164631
CREATED:20260403T172209Z
LAST-MODIFIED:20260403T172209Z
UID:19066-1779321600-1779407999@www.ms-ternitz.ac.at
SUMMARY:Wexl Trails - St. Corona am Wechsel
DESCRIPTION:
URL:https://www.ms-ternitz.ac.at/monat/wexl-trails-st-corona-am-wechsel/
CATEGORIES:Sportveranstaltung
END:VEVENT
BEGIN:VEVENT
DTSTART;VALUE=DATE:20260521
DTEND;VALUE=DATE:20260522
DTSTAMP:20260424T164631
CREATED:20260403T180015Z
LAST-MODIFIED:20260403T180015Z
UID:19121-1779321600-1779407999@www.ms-ternitz.ac.at
SUMMARY:2. Klassen Deutsch-Schularbeit
DESCRIPTION:
URL:https://www.ms-ternitz.ac.at/monat/2-klassen-deutsch-schularbeit-2/
CATEGORIES:Schultermine
END:VEVENT
BEGIN:VEVENT
DTSTART;VALUE=DATE:20260521
DTEND;VALUE=DATE:20260522
DTSTAMP:20260424T164631
CREATED:20260403T180047Z
LAST-MODIFIED:20260403T180047Z
UID:19123-1779321600-1779407999@www.ms-ternitz.ac.at
SUMMARY:4. Klassen Englisch-Schularbeit
DESCRIPTION:
URL:https://www.ms-ternitz.ac.at/monat/4-klassen-englisch-schularbeit/
CATEGORIES:Schultermine
END:VEVENT
BEGIN:VEVENT
DTSTART;VALUE=DATE:20260525
DTEND;VALUE=DATE:20260526
DTSTAMP:20260424T164631
CREATED:20240914T103131Z
LAST-MODIFIED:20240914T103131Z
UID:14060-1779667200-1779753599@www.ms-ternitz.ac.at
SUMMARY:Pfingstmontag
DESCRIPTION:
URL:https://www.ms-ternitz.ac.at/monat/pfingstmontag-3/
CATEGORIES:Feiertag
END:VEVENT
BEGIN:VEVENT
DTSTART;VALUE=DATE:20260526
DTEND;VALUE=DATE:20260530
DTSTAMP:20260424T164631
CREATED:20260403T172316Z
LAST-MODIFIED:20260403T172316Z
UID:19068-1779753600-1780099199@www.ms-ternitz.ac.at
SUMMARY:1aK\, 1b\, 1c Projektwoche
DESCRIPTION:
URL:https://www.ms-ternitz.ac.at/monat/1ak-1b-1c-projektwoche/
CATEGORIES:Projekttage
END:VEVENT
BEGIN:VEVENT
DTSTART;VALUE=DATE:20260526
DTEND;VALUE=DATE:20260530
DTSTAMP:20260424T164631
CREATED:20260403T172401Z
LAST-MODIFIED:20260403T172537Z
UID:19070-1779753600-1780099199@www.ms-ternitz.ac.at
SUMMARY:3aK Projektwoche
DESCRIPTION:
URL:https://www.ms-ternitz.ac.at/monat/3ak-projekttage/
CATEGORIES:Projekttage
END:VEVENT
BEGIN:VEVENT
DTSTART;VALUE=DATE:20260526
DTEND;VALUE=DATE:20260530
DTSTAMP:20260424T164631
CREATED:20260403T172626Z
LAST-MODIFIED:20260403T181612Z
UID:19073-1779753600-1780099199@www.ms-ternitz.ac.at
SUMMARY:1aS\, 2aS Sommersportwoche
DESCRIPTION:
URL:https://www.ms-ternitz.ac.at/monat/1as-1b-1c-sommersportwoche/
CATEGORIES:Sommersportwoche
END:VEVENT
BEGIN:VEVENT
DTSTART;TZID=Europe/Berlin:20260527T080000
DTEND;TZID=Europe/Berlin:20260527T170000
DTSTAMP:20260424T164631
CREATED:20260403T180124Z
LAST-MODIFIED:20260403T180124Z
UID:19125-1779868800-1779901200@www.ms-ternitz.ac.at
SUMMARY:2. Klassen Mathematik-Schularbeit
DESCRIPTION:
URL:https://www.ms-ternitz.ac.at/monat/2-klassen-mathematik-schularbeit/
CATEGORIES:Schultermine
END:VEVENT
BEGIN:VEVENT
DTSTART;VALUE=DATE:20260531
DTEND;VALUE=DATE:20260601
DTSTAMP:20260424T164631
CREATED:20260403T172803Z
LAST-MODIFIED:20260403T172803Z
UID:19075-1780185600-1780271999@www.ms-ternitz.ac.at
SUMMARY:38. ASICS Frauenlauf
DESCRIPTION:
URL:https://www.ms-ternitz.ac.at/monat/38-asics-frauenlauf/
CATEGORIES:Sportveranstaltung
END:VEVENT
BEGIN:VEVENT
DTSTART;VALUE=DATE:20260601
DTEND;VALUE=DATE:20260604
DTSTAMP:20260424T164631
CREATED:20260403T172931Z
LAST-MODIFIED:20260403T181724Z
UID:19077-1780272000-1780531199@www.ms-ternitz.ac.at
SUMMARY:"Kelten"-Projekttage der Kreativklassen
DESCRIPTION:
URL:https://www.ms-ternitz.ac.at/monat/projekttage-kelten-der-kreativklassen/
CATEGORIES:Projekttage
END:VEVENT
BEGIN:VEVENT
DTSTART;VALUE=DATE:20260602
DTEND;VALUE=DATE:20260603
DTSTAMP:20260424T164631
CREATED:20260403T173041Z
LAST-MODIFIED:20260403T173041Z
UID:19079-1780358400-1780444799@www.ms-ternitz.ac.at
SUMMARY:"Aquatlon" Wr. Neustadt
DESCRIPTION:
URL:https://www.ms-ternitz.ac.at/monat/aquatlon-wr-neustadt/
CATEGORIES:Sportveranstaltung
END:VEVENT
BEGIN:VEVENT
DTSTART;VALUE=DATE:20260603
DTEND;VALUE=DATE:20260604
DTSTAMP:20260424T164631
CREATED:20260403T173916Z
LAST-MODIFIED:20260403T173916Z
UID:19083-1780444800-1780531199@www.ms-ternitz.ac.at
SUMMARY:Schulmeisterschaften Orientierungslauf
DESCRIPTION:
URL:https://www.ms-ternitz.ac.at/monat/schulmeisterschaften-orientierungslauf/
CATEGORIES:Sportveranstaltung
END:VEVENT
BEGIN:VEVENT
DTSTART;VALUE=DATE:20260603
DTEND;VALUE=DATE:20260604
DTSTAMP:20260424T164631
CREATED:20260403T180219Z
LAST-MODIFIED:20260413T081648Z
UID:19129-1780444800-1780531199@www.ms-ternitz.ac.at
SUMMARY:2. Klassen Englisch-Schularbeit
DESCRIPTION:
URL:https://www.ms-ternitz.ac.at/monat/2-klassen-englisch-schularbeit/
CATEGORIES:Schultermine
END:VEVENT
BEGIN:VEVENT
DTSTART;TZID=Europe/Berlin:20260603T183000
DTEND;TZID=Europe/Berlin:20260603T200000
DTSTAMP:20260424T164631
CREATED:20260403T173640Z
LAST-MODIFIED:20260417T095727Z
UID:19081-1780511400-1780516800@www.ms-ternitz.ac.at
SUMMARY:Veranstaltung der Kreativklassen - "Keltischer Zauber: Leuchtend in die Zukunft"
DESCRIPTION:Einladung Kreativabend Juni 2026
URL:https://www.ms-ternitz.ac.at/monat/veranstaltung-der-kreativklassen-keltischer-zauber/
CATEGORIES:Veranstaltung
END:VEVENT
BEGIN:VEVENT
DTSTART;VALUE=DATE:20260605
DTEND;VALUE=DATE:20260606
DTSTAMP:20260424T164631
CREATED:20260403T174007Z
LAST-MODIFIED:20260403T174007Z
UID:19085-1780617600-1780703999@www.ms-ternitz.ac.at
SUMMARY:Projekttag der MS Ternitz
DESCRIPTION:
URL:https://www.ms-ternitz.ac.at/monat/projekttag-der-ms-ternitz/
CATEGORIES:Projekttage
END:VEVENT
BEGIN:VEVENT
DTSTART;VALUE=DATE:20260608
DTEND;VALUE=DATE:20260613
DTSTAMP:20260424T164631
CREATED:20260403T174052Z
LAST-MODIFIED:20260403T174052Z
UID:19087-1780876800-1781308799@www.ms-ternitz.ac.at
SUMMARY:4aK Projektwoche
DESCRIPTION:
URL:https://www.ms-ternitz.ac.at/monat/4ak-projektwoche/
CATEGORIES:Projekttage
END:VEVENT
BEGIN:VEVENT
DTSTART;VALUE=DATE:20260608
DTEND;VALUE=DATE:20260613
DTSTAMP:20260424T164631
CREATED:20260403T174134Z
LAST-MODIFIED:20260403T174134Z
UID:19089-1780876800-1781308799@www.ms-ternitz.ac.at
SUMMARY:4bK Projekttage
DESCRIPTION:
URL:https://www.ms-ternitz.ac.at/monat/4bk-projekttage/
CATEGORIES:Projekttage
END:VEVENT
BEGIN:VEVENT
DTSTART;VALUE=DATE:20260608
DTEND;VALUE=DATE:20260613
DTSTAMP:20260424T164631
CREATED:20260403T174210Z
LAST-MODIFIED:20260403T174210Z
UID:19091-1780876800-1781308799@www.ms-ternitz.ac.at
SUMMARY:4aS\, 4b\, 4c Sommersportwoche
DESCRIPTION:
URL:https://www.ms-ternitz.ac.at/monat/4as-4b-4c-sommersportwoche/
CATEGORIES:Projekttage
END:VEVENT
BEGIN:VEVENT
DTSTART;VALUE=DATE:20260609
DTEND;VALUE=DATE:20260610
DTSTAMP:20260424T164631
CREATED:20260403T180154Z
LAST-MODIFIED:20260403T180154Z
UID:19127-1780963200-1781049599@www.ms-ternitz.ac.at
SUMMARY:3. Klassen Deutsch-Schularbeit
DESCRIPTION:
URL:https://www.ms-ternitz.ac.at/monat/3-klassen-deutsch-schularbeit/
CATEGORIES:Schultermine
END:VEVENT
END:VCALENDAR